BEGIN:VCALENDAR
VERSION:2.0
PRODID:icalendar-ruby
CALSCALE:GREGORIAN
BEGIN:VEVENT
DTSTAMP:20260419T164026Z
UID:ee2154c4-4c07-4589-95be-1eda4fb2030a
DTSTART;VALUE=DATE:20260318
DESCRIPTION:Property ID# 604265\, Time: 4:00PM
SUMMARY:Auction for 53 Sapphire Street
END:VEVENT
END:VCALENDAR
