BEGIN:VCALENDAR
VERSION:2.0
PRODID:icalendar-ruby
CALSCALE:GREGORIAN
BEGIN:VEVENT
DTSTAMP:20260419T164226Z
UID:bcb14145-1258-419c-aae1-447ad8d1da3d
DTSTART;VALUE=DATE:20260420
DESCRIPTION:Property ID# 605802\, Locatoin: 3 Deans Avenue\, Riccarton\, Ch
 ristchurch\, Time: 4:00PM
SUMMARY:Auction for 102 Grafton Street
END:VEVENT
END:VCALENDAR
