BEGIN:VCALENDAR
VERSION:2.0
PRODID:icalendar-ruby
CALSCALE:GREGORIAN
BEGIN:VEVENT
DTSTAMP:20260419T164541Z
UID:cf4385c0-322e-4afb-bb30-d2d51f726361
DTSTART;VALUE=DATE:20260506
DESCRIPTION:Property ID# 606713\, Locatoin: 3 Deans Avenue\, Riccarton\, Ch
 ristchurch\, Time: 4:00PM
SUMMARY:Auction for 11 Moreton Green
END:VEVENT
END:VCALENDAR
