BEGIN:VCALENDAR
VERSION:2.0
PRODID:icalendar-ruby
CALSCALE:GREGORIAN
BEGIN:VEVENT
DTSTAMP:20260419T164342Z
UID:926417e1-bfad-4d2e-b2f4-b7889f9961bf
DTSTART;TZID=Pacific/Auckland:20260419T130000
DTEND;TZID=Pacific/Auckland:20260419T133000
DESCRIPTION:Property ID# 606713
SUMMARY:Openhome for 11 Moreton Green
END:VEVENT
END:VCALENDAR
